BEGIN:VCALENDAR
VERSION:2.0
PRODID:-//Evolve Motherhood - ECPv6.15.20//NONSGML v1.0//EN
CALSCALE:GREGORIAN
METHOD:PUBLISH
X-ORIGINAL-URL:https://evolve-motherhood.co.uk
X-WR-CALDESC:Events for Evolve Motherhood
REFRESH-INTERVAL;VALUE=DURATION:PT1H
X-Robots-Tag:noindex
X-PUBLISHED-TTL:PT1H
BEGIN:VTIMEZONE
TZID:Europe/London
BEGIN:DAYLIGHT
TZOFFSETFROM:+0000
TZOFFSETTO:+0100
TZNAME:BST
DTSTART:20240331T010000
END:DAYLIGHT
BEGIN:STANDARD
TZOFFSETFROM:+0100
TZOFFSETTO:+0000
TZNAME:GMT
DTSTART:20241027T010000
END:STANDARD
BEGIN:DAYLIGHT
TZOFFSETFROM:+0000
TZOFFSETTO:+0100
TZNAME:BST
DTSTART:20250330T010000
END:DAYLIGHT
BEGIN:STANDARD
TZOFFSETFROM:+0100
TZOFFSETTO:+0000
TZNAME:GMT
DTSTART:20251026T010000
END:STANDARD
BEGIN:DAYLIGHT
TZOFFSETFROM:+0000
TZOFFSETTO:+0100
TZNAME:BST
DTSTART:20260329T010000
END:DAYLIGHT
BEGIN:STANDARD
TZOFFSETFROM:+0100
TZOFFSETTO:+0000
TZNAME:GMT
DTSTART:20261025T010000
END:STANDARD
END:VTIMEZONE
BEGIN:VEVENT
DTSTART;TZID=Europe/London:20250810T140000
DTEND;TZID=Europe/London:20250810T160000
DTSTAMP:20260420T203744
CREATED:20250521T174737Z
LAST-MODIFIED:20250521T174737Z
UID:740-1754834400-1754841600@evolve-motherhood.co.uk
SUMMARY:The Mothers' Space
DESCRIPTION:
URL:https://evolve-motherhood.co.uk/event/the-mothers-space-5/
LOCATION:For-Me Studio Cullercoats\, 11 – 15 North View\, Cullercoats\, North Sheilds\, NE30 4PF\, United Kingdom
CATEGORIES:In Person Events,Mothers Space
ORGANIZER;CN="Jessica Mayes":MAILTO:jec@evolve-motherhood.co.uk
END:VEVENT
END:VCALENDAR